BEGIN:VCALENDAR
VERSION:2.0
PRODID:-//Hero - ECPv6.15.18//NONSGML v1.0//EN
CALSCALE:GREGORIAN
METHOD:PUBLISH
X-WR-CALNAME:Hero
X-ORIGINAL-URL:https://hrvhero.com.au
X-WR-CALDESC:Events for Hero
REFRESH-INTERVAL;VALUE=DURATION:PT1H
X-Robots-Tag:noindex
X-PUBLISHED-TTL:PT1H
BEGIN:VTIMEZONE
TZID:Australia/Melbourne
BEGIN:STANDARD
TZOFFSETFROM:+1100
TZOFFSETTO:+1000
TZNAME:AEST
DTSTART:20240406T160000
END:STANDARD
BEGIN:DAYLIGHT
TZOFFSETFROM:+1000
TZOFFSETTO:+1100
TZNAME:AEDT
DTSTART:20241005T160000
END:DAYLIGHT
BEGIN:STANDARD
TZOFFSETFROM:+1100
TZOFFSETTO:+1000
TZNAME:AEST
DTSTART:20250405T160000
END:STANDARD
BEGIN:DAYLIGHT
TZOFFSETFROM:+1000
TZOFFSETTO:+1100
TZNAME:AEDT
DTSTART:20251004T160000
END:DAYLIGHT
BEGIN:STANDARD
TZOFFSETFROM:+1100
TZOFFSETTO:+1000
TZNAME:AEST
DTSTART:20260404T160000
END:STANDARD
BEGIN:DAYLIGHT
TZOFFSETFROM:+1000
TZOFFSETTO:+1100
TZNAME:AEDT
DTSTART:20261003T160000
END:DAYLIGHT
END:VTIMEZONE
BEGIN:VEVENT
DTSTART;TZID=Australia/Melbourne:20250201T080000
DTEND;TZID=Australia/Melbourne:20250201T170000
DTSTAMP:20260422T122235
CREATED:20250312T225603Z
LAST-MODIFIED:20250312T225603Z
UID:7939-1738396800-1738429200@hrvhero.com.au
SUMMARY:Yarra Glen A & H Society Inc.
DESCRIPTION:
URL:https://hrvhero.com.au/event/yarra-glen-a-h-society-inc-2/
LOCATION:Victoria
CATEGORIES:Alabar Hero Series Qualifier
END:VEVENT
BEGIN:VEVENT
DTSTART;TZID=Australia/Melbourne:20250208T080000
DTEND;TZID=Australia/Melbourne:20250208T170000
DTSTAMP:20260422T122235
CREATED:20250312T225616Z
LAST-MODIFIED:20250312T225616Z
UID:7941-1739001600-1739034000@hrvhero.com.au
SUMMARY:Tyrendarra P & A Society Inc.
DESCRIPTION:
URL:https://hrvhero.com.au/event/tyrendarra-p-a-society-inc-2/
LOCATION:Victoria
CATEGORIES:Alabar Hero Series Qualifier
END:VEVENT
BEGIN:VEVENT
DTSTART;TZID=Australia/Melbourne:20250222T080000
DTEND;TZID=Australia/Melbourne:20250222T170000
DTSTAMP:20260422T122235
CREATED:20250312T225631Z
LAST-MODIFIED:20250312T225631Z
UID:7943-1740211200-1740243600@hrvhero.com.au
SUMMARY:Foster & District A & P Society Inc.
DESCRIPTION:
URL:https://hrvhero.com.au/event/foster-district-a-p-society-inc-2/
LOCATION:Victoria
CATEGORIES:Alabar Hero Series Qualifier
END:VEVENT
BEGIN:VEVENT
DTSTART;TZID=Australia/Melbourne:20250222T080000
DTEND;TZID=Australia/Melbourne:20250222T170000
DTSTAMP:20260422T122235
CREATED:20250312T225647Z
LAST-MODIFIED:20250312T225647Z
UID:7945-1740211200-1740243600@hrvhero.com.au
SUMMARY:Rochester A & P Association Inc.
DESCRIPTION:
URL:https://hrvhero.com.au/event/rochester-a-p-association-inc/
LOCATION:Victoria
CATEGORIES:Alabar Hero Series Qualifier
END:VEVENT
END:VCALENDAR