BEGIN:VCALENDAR
VERSION:2.0
PRODID:-//Hero - ECPv6.15.18//NONSGML v1.0//EN
CALSCALE:GREGORIAN
METHOD:PUBLISH
X-WR-CALNAME:Hero
X-ORIGINAL-URL:https://hrvhero.com.au
X-WR-CALDESC:Events for Hero
REFRESH-INTERVAL;VALUE=DURATION:PT1H
X-Robots-Tag:noindex
X-PUBLISHED-TTL:PT1H
BEGIN:VTIMEZONE
TZID:Australia/Melbourne
BEGIN:STANDARD
TZOFFSETFROM:+1100
TZOFFSETTO:+1000
TZNAME:AEST
DTSTART:20230401T160000
END:STANDARD
BEGIN:DAYLIGHT
TZOFFSETFROM:+1000
TZOFFSETTO:+1100
TZNAME:AEDT
DTSTART:20230930T160000
END:DAYLIGHT
BEGIN:STANDARD
TZOFFSETFROM:+1100
TZOFFSETTO:+1000
TZNAME:AEST
DTSTART:20240406T160000
END:STANDARD
BEGIN:DAYLIGHT
TZOFFSETFROM:+1000
TZOFFSETTO:+1100
TZNAME:AEDT
DTSTART:20241005T160000
END:DAYLIGHT
BEGIN:STANDARD
TZOFFSETFROM:+1100
TZOFFSETTO:+1000
TZNAME:AEST
DTSTART:20250405T160000
END:STANDARD
BEGIN:DAYLIGHT
TZOFFSETFROM:+1000
TZOFFSETTO:+1100
TZNAME:AEDT
DTSTART:20251004T160000
END:DAYLIGHT
BEGIN:STANDARD
TZOFFSETFROM:+1100
TZOFFSETTO:+1000
TZNAME:AEST
DTSTART:20260404T160000
END:STANDARD
BEGIN:DAYLIGHT
TZOFFSETFROM:+1000
TZOFFSETTO:+1100
TZNAME:AEDT
DTSTART:20261003T160000
END:DAYLIGHT
END:VTIMEZONE
BEGIN:VEVENT
DTSTART;TZID=Australia/Melbourne:20250105T080000
DTEND;TZID=Australia/Melbourne:20250105T170000
DTSTAMP:20260426T001731
CREATED:20241202T045914Z
LAST-MODIFIED:20241202T045914Z
UID:7734-1736064000-1736096400@hrvhero.com.au
SUMMARY:VAS Saddle Horse Championships - Alabar Hero Series Final
DESCRIPTION:
URL:https://hrvhero.com.au/event/vas-saddle-horse-championships-alabar-hero-series-final/
CATEGORIES:Alabar Hero Series,Show
END:VEVENT
BEGIN:VEVENT
DTSTART;TZID=Australia/Melbourne:20240323T080000
DTEND;TZID=Australia/Melbourne:20240323T170000
DTSTAMP:20260426T001731
CREATED:20240227T230254Z
LAST-MODIFIED:20240227T230254Z
UID:6712-1711180800-1711213200@hrvhero.com.au
SUMMARY:Natimuk
DESCRIPTION:
URL:https://hrvhero.com.au/event/natimuk/
CATEGORIES:Alabar Hero Series
END:VEVENT
BEGIN:VEVENT
DTSTART;TZID=Australia/Melbourne:20240309T080000
DTEND;TZID=Australia/Melbourne:20240309T170000
DTSTAMP:20260426T001731
CREATED:20240227T230151Z
LAST-MODIFIED:20240227T230151Z
UID:6708-1709971200-1710003600@hrvhero.com.au
SUMMARY:Wakool Show
DESCRIPTION:
URL:https://hrvhero.com.au/event/wakool-show/
CATEGORIES:Alabar Hero Series
END:VEVENT
BEGIN:VEVENT
DTSTART;TZID=Australia/Melbourne:20240302T080000
DTEND;TZID=Australia/Melbourne:20240302T170000
DTSTAMP:20260426T001731
CREATED:20240227T230137Z
LAST-MODIFIED:20240227T230137Z
UID:6706-1709366400-1709398800@hrvhero.com.au
SUMMARY:Deniliquin Show
DESCRIPTION:
URL:https://hrvhero.com.au/event/deniliquin-show/
CATEGORIES:Alabar Hero Series
END:VEVENT
BEGIN:VEVENT
DTSTART;TZID=Australia/Melbourne:20240302T080000
DTEND;TZID=Australia/Melbourne:20240302T170000
DTSTAMP:20260426T001731
CREATED:20240227T230043Z
LAST-MODIFIED:20240227T230043Z
UID:6704-1709366400-1709398800@hrvhero.com.au
SUMMARY:Warragul Show
DESCRIPTION:
URL:https://hrvhero.com.au/event/warragul-show/
CATEGORIES:Alabar Hero Series
END:VEVENT
BEGIN:VEVENT
DTSTART;TZID=Australia/Melbourne:20240224T080000
DTEND;TZID=Australia/Melbourne:20240224T170000
DTSTAMP:20260426T001731
CREATED:20240227T225807Z
LAST-MODIFIED:20240227T225807Z
UID:6702-1708761600-1708794000@hrvhero.com.au
SUMMARY:Heytesbury Show
DESCRIPTION:
URL:https://hrvhero.com.au/event/heytesbury-show/
CATEGORIES:Alabar Hero Series
END:VEVENT
BEGIN:VEVENT
DTSTART;TZID=Australia/Melbourne:20240224T080000
DTEND;TZID=Australia/Melbourne:20240224T170000
DTSTAMP:20260426T001731
CREATED:20240208T232127Z
LAST-MODIFIED:20240208T232127Z
UID:6684-1708761600-1708794000@hrvhero.com.au
SUMMARY:Foster Show
DESCRIPTION:
URL:https://hrvhero.com.au/event/foster-show/
CATEGORIES:Alabar Hero Series
END:VEVENT
BEGIN:VEVENT
DTSTART;TZID=Australia/Melbourne:20240211T080000
DTEND;TZID=Australia/Melbourne:20240211T170000
DTSTAMP:20260426T001731
CREATED:20240227T230242Z
LAST-MODIFIED:20240227T230242Z
UID:6710-1707638400-1707670800@hrvhero.com.au
SUMMARY:Berwick Show
DESCRIPTION:
URL:https://hrvhero.com.au/event/berwick-show/
CATEGORIES:Alabar Hero Series
END:VEVENT
BEGIN:VEVENT
DTSTART;TZID=Australia/Melbourne:20240210T080000
DTEND;TZID=Australia/Melbourne:20240210T170000
DTSTAMP:20260426T001731
CREATED:20240130T225813Z
LAST-MODIFIED:20240130T225849Z
UID:6627-1707552000-1707584400@hrvhero.com.au
SUMMARY:Tyrendarra Annual Show
DESCRIPTION:
URL:https://hrvhero.com.au/event/tyrendarra-annual-show/
CATEGORIES:Alabar Hero Series
END:VEVENT
BEGIN:VEVENT
DTSTART;TZID=Australia/Melbourne:20240203T080000
DTEND;TZID=Australia/Melbourne:20240203T170000
DTSTAMP:20260426T001731
CREATED:20240130T225748Z
LAST-MODIFIED:20240130T225748Z
UID:6625-1706947200-1706979600@hrvhero.com.au
SUMMARY:Yarra Glen Annual Show
DESCRIPTION:
URL:https://hrvhero.com.au/event/yarra-glen-annual-show/
CATEGORIES:Alabar Hero Series
END:VEVENT
BEGIN:VEVENT
DTSTART;TZID=Australia/Melbourne:20240107T080000
DTEND;TZID=Australia/Melbourne:20240107T170000
DTSTAMP:20260426T001731
CREATED:20231108T035943Z
LAST-MODIFIED:20231108T040144Z
UID:6248-1704614400-1704646800@hrvhero.com.au
SUMMARY:Alabar Hero Series Final @ VAS Saddle Horse Championships
DESCRIPTION:
URL:https://hrvhero.com.au/event/alabar-hero-series-final-vas-saddle-horse-championships/
LOCATION:Bendigo Showgrounds\, Bendigo\, VIC\, Australia
CATEGORIES:Alabar Hero Series,HRCAV Event,Pony Club Victoria Event,Show,Sport Horse Australia Event,Victorian Endurance Riders Hero Series
END:VEVENT
END:VCALENDAR