BEGIN:VCALENDAR
VERSION:2.0
PRODID:-//Hero - ECPv6.15.18//NONSGML v1.0//EN
CALSCALE:GREGORIAN
METHOD:PUBLISH
X-ORIGINAL-URL:https://hrvhero.com.au
X-WR-CALDESC:Events for Hero
REFRESH-INTERVAL;VALUE=DURATION:PT1H
X-Robots-Tag:noindex
X-PUBLISHED-TTL:PT1H
BEGIN:VTIMEZONE
TZID:Australia/Melbourne
BEGIN:STANDARD
TZOFFSETFROM:+1100
TZOFFSETTO:+1000
TZNAME:AEST
DTSTART:20230401T160000
END:STANDARD
BEGIN:DAYLIGHT
TZOFFSETFROM:+1000
TZOFFSETTO:+1100
TZNAME:AEDT
DTSTART:20230930T160000
END:DAYLIGHT
BEGIN:STANDARD
TZOFFSETFROM:+1100
TZOFFSETTO:+1000
TZNAME:AEST
DTSTART:20240406T160000
END:STANDARD
BEGIN:DAYLIGHT
TZOFFSETFROM:+1000
TZOFFSETTO:+1100
TZNAME:AEDT
DTSTART:20241005T160000
END:DAYLIGHT
BEGIN:STANDARD
TZOFFSETFROM:+1100
TZOFFSETTO:+1000
TZNAME:AEST
DTSTART:20250405T160000
END:STANDARD
BEGIN:DAYLIGHT
TZOFFSETFROM:+1000
TZOFFSETTO:+1100
TZNAME:AEDT
DTSTART:20251004T160000
END:DAYLIGHT
END:VTIMEZONE
BEGIN:VEVENT
DTSTART;TZID=Australia/Melbourne:20240211T080000
DTEND;TZID=Australia/Melbourne:20240211T170000
DTSTAMP:20260420T102849
CREATED:20240129T035910Z
LAST-MODIFIED:20240129T035910Z
UID:6574-1707638400-1707670800@hrvhero.com.au
SUMMARY:Portland and District Adult Riding Club Official HRCAV Show
DESCRIPTION:
URL:https://hrvhero.com.au/event/portland-and-district-adult-riding-club-official-hrcav-show/
LOCATION:Yarraman Park\, Portland\, VIC\, 3305
CATEGORIES:HRCAV Event,Show
END:VEVENT
BEGIN:VEVENT
DTSTART;TZID=Australia/Melbourne:20240216T080000
DTEND;TZID=Australia/Melbourne:20240216T170000
DTSTAMP:20260420T102849
CREATED:20240129T040007Z
LAST-MODIFIED:20240129T040007Z
UID:6578-1708070400-1708102800@hrvhero.com.au
SUMMARY:Trentham Not So Midweek Dressage - Round 1
DESCRIPTION:
URL:https://hrvhero.com.au/event/trentham-not-so-midweek-dressage-round-1/
LOCATION:Newbury Reserve\, Newbury Reserve\, Newbury\, VIC\, 3458\, Australia
CATEGORIES:HRCAV Event
END:VEVENT
BEGIN:VEVENT
DTSTART;TZID=Australia/Melbourne:20240217T080000
DTEND;TZID=Australia/Melbourne:20240218T170000
DTSTAMP:20260420T102849
CREATED:20240129T040724Z
LAST-MODIFIED:20240129T040724Z
UID:6586-1708156800-1708275600@hrvhero.com.au
SUMMARY:Cashmore Classic Dressage Weekend
DESCRIPTION:
URL:https://hrvhero.com.au/event/cashmore-classic-dressage-weekend-2/
LOCATION:Yarraman Park Equestrian Centre\, 134 Madeira Packet Road\, Portland\, VIC\, 3305\, Australia
CATEGORIES:HRCAV Event
ORGANIZER;CN="Cashmore Adult Riding Club":MAILTO:cashmorearc@outlook.com
END:VEVENT
END:VCALENDAR