BEGIN:VCALENDAR
VERSION:2.0
PRODID:-//Hero - ECPv6.15.18//NONSGML v1.0//EN
CALSCALE:GREGORIAN
METHOD:PUBLISH
X-ORIGINAL-URL:https://hrvhero.com.au
X-WR-CALDESC:Events for Hero
REFRESH-INTERVAL;VALUE=DURATION:PT1H
X-Robots-Tag:noindex
X-PUBLISHED-TTL:PT1H
BEGIN:VTIMEZONE
TZID:Australia/Melbourne
BEGIN:STANDARD
TZOFFSETFROM:+1100
TZOFFSETTO:+1000
TZNAME:AEST
DTSTART:20230401T160000
END:STANDARD
BEGIN:DAYLIGHT
TZOFFSETFROM:+1000
TZOFFSETTO:+1100
TZNAME:AEDT
DTSTART:20230930T160000
END:DAYLIGHT
BEGIN:STANDARD
TZOFFSETFROM:+1100
TZOFFSETTO:+1000
TZNAME:AEST
DTSTART:20240406T160000
END:STANDARD
BEGIN:DAYLIGHT
TZOFFSETFROM:+1000
TZOFFSETTO:+1100
TZNAME:AEDT
DTSTART:20241005T160000
END:DAYLIGHT
BEGIN:STANDARD
TZOFFSETFROM:+1100
TZOFFSETTO:+1000
TZNAME:AEST
DTSTART:20250405T160000
END:STANDARD
BEGIN:DAYLIGHT
TZOFFSETFROM:+1000
TZOFFSETTO:+1100
TZNAME:AEDT
DTSTART:20251004T160000
END:DAYLIGHT
BEGIN:STANDARD
TZOFFSETFROM:+1100
TZOFFSETTO:+1000
TZNAME:AEST
DTSTART:20260404T160000
END:STANDARD
BEGIN:DAYLIGHT
TZOFFSETFROM:+1000
TZOFFSETTO:+1100
TZNAME:AEDT
DTSTART:20261003T160000
END:DAYLIGHT
END:VTIMEZONE
BEGIN:VEVENT
DTSTART;TZID=Australia/Melbourne:20240420T080000
DTEND;TZID=Australia/Melbourne:20240421T170000
DTSTAMP:20260420T154308
CREATED:20240130T223715Z
LAST-MODIFIED:20240130T223715Z
UID:6620-1713600000-1713718800@hrvhero.com.au
SUMMARY:TTT Combined Training Yarrambat Adult Riding Club
DESCRIPTION:
URL:https://hrvhero.com.au/event/ttt-combined-training-yarrambat-adult-riding-club/
LOCATION:Yarrambat PC Grounds
CATEGORIES:HRCAV Event
END:VEVENT
BEGIN:VEVENT
DTSTART;TZID=Australia/Melbourne:20240421T080000
DTEND;TZID=Australia/Melbourne:20240421T170000
DTSTAMP:20260420T154308
CREATED:20240319T233211Z
LAST-MODIFIED:20240319T233211Z
UID:6766-1713686400-1713718800@hrvhero.com.au
SUMMARY:Inverleigh Dressage Day - Golden Spurs Final
DESCRIPTION:
URL:https://hrvhero.com.au/event/inverleigh-dressage-day-golden-spurs-final/
CATEGORIES:HRCAV Event
END:VEVENT
BEGIN:VEVENT
DTSTART;TZID=Australia/Melbourne:20240426T080000
DTEND;TZID=Australia/Melbourne:20240428T170000
DTSTAMP:20260420T154308
CREATED:20240313T024342Z
LAST-MODIFIED:20240313T024342Z
UID:6728-1714118400-1714323600@hrvhero.com.au
SUMMARY:Wangaratta Dressage Festival -HRCAV DJ (2 days) and PCAV DJ (1 Day)
DESCRIPTION:
URL:https://hrvhero.com.au/event/wangaratta-dressage-festival-hrcav-dj-2-days-and-pcav-dj-1-day/
CATEGORIES:HRCAV Event,Pony Club Victoria Event
END:VEVENT
BEGIN:VEVENT
DTSTART;TZID=Australia/Melbourne:20240504T080000
DTEND;TZID=Australia/Melbourne:20240504T170000
DTSTAMP:20260420T154308
CREATED:20240312T220730Z
LAST-MODIFIED:20240312T220730Z
UID:6724-1714809600-1714842000@hrvhero.com.au
SUMMARY:South Eastern Dressage Association - Round 5 Caves Craters & Coast Dressage Series
DESCRIPTION:
URL:https://hrvhero.com.au/event/south-eastern-dressage-association-round-5-caves-craters-coast-dressage-series/
CATEGORIES:HRCAV Event
END:VEVENT
BEGIN:VEVENT
DTSTART;TZID=Australia/Melbourne:20240505T080000
DTEND;TZID=Australia/Melbourne:20240505T170000
DTSTAMP:20260420T154308
CREATED:20240312T220321Z
LAST-MODIFIED:20240312T220427Z
UID:6722-1714896000-1714928400@hrvhero.com.au
SUMMARY:Wandin Park RCA Official HRCAV Showjumping
DESCRIPTION:
URL:https://hrvhero.com.au/event/wandin-park-rca-official-hrcav-showjumping/
CATEGORIES:HRCAV Event
END:VEVENT
BEGIN:VEVENT
DTSTART;TZID=Australia/Melbourne:20240518T080000
DTEND;TZID=Australia/Melbourne:20240519T170000
DTSTAMP:20260420T154308
CREATED:20240226T225447Z
LAST-MODIFIED:20240226T225512Z
UID:6699-1716019200-1716138000@hrvhero.com.au
SUMMARY:TTT Horse Trials hosted by Narrandera Adult Riding Club 2024
DESCRIPTION:
URL:https://hrvhero.com.au/event/hrcav-ttt-horse-trials-2024/
CATEGORIES:HRCAV Event
END:VEVENT
BEGIN:VEVENT
DTSTART;TZID=Australia/Melbourne:20240519T080000
DTEND;TZID=Australia/Melbourne:20240519T170000
DTSTAMP:20260420T154308
CREATED:20240130T225143Z
LAST-MODIFIED:20240130T225143Z
UID:6623-1716105600-1716138000@hrvhero.com.au
SUMMARY:Rosedale and District Adult Riding Club Dressage Jackpot
DESCRIPTION:
URL:https://hrvhero.com.au/event/rosedale-and-district-adult-riding-club-dressage-jackpot/
CATEGORIES:HRCAV Event
END:VEVENT
BEGIN:VEVENT
DTSTART;TZID=Australia/Melbourne:20240525T080000
DTEND;TZID=Australia/Melbourne:20240525T170000
DTSTAMP:20260420T154308
CREATED:20240403T024429Z
LAST-MODIFIED:20240403T024429Z
UID:6829-1716624000-1716656400@hrvhero.com.au
SUMMARY:Bolinda ARC Dressage Jackpot and Winter Woolies
DESCRIPTION:
URL:https://hrvhero.com.au/event/bolinda-arc-dressage-jackpot-and-winter-woolies/
CATEGORIES:HRCAV Event
END:VEVENT
BEGIN:VEVENT
DTSTART;TZID=Australia/Melbourne:20240623T080000
DTEND;TZID=Australia/Melbourne:20240623T170000
DTSTAMP:20260420T154308
CREATED:20240317T230444Z
LAST-MODIFIED:20240317T230444Z
UID:6762-1719129600-1719162000@hrvhero.com.au
SUMMARY:Tallarook Family Riding Club TTT Navigation Ride 2024
DESCRIPTION:
URL:https://hrvhero.com.au/event/tallarook-family-riding-club-ttt-navigation-ride-2024/
CATEGORIES:HRCAV Event
END:VEVENT
BEGIN:VEVENT
DTSTART;TZID=Australia/Melbourne:20240711T080000
DTEND;TZID=Australia/Melbourne:20240711T170000
DTSTAMP:20260420T154308
CREATED:20240312T220836Z
LAST-MODIFIED:20240312T220836Z
UID:6726-1720684800-1720717200@hrvhero.com.au
SUMMARY:Werribee Central Equestrian Club Winter Woollies Show
DESCRIPTION:
URL:https://hrvhero.com.au/event/werribee-central-equestrian-club-winter-woollies-show/
LOCATION:Werribee Park Equestrian Centre\, 170 K Road\, Werribee South\, VIC\, 3030\, Australia
CATEGORIES:HRCAV Event
END:VEVENT
BEGIN:VEVENT
DTSTART;TZID=Australia/Melbourne:20241215T080000
DTEND;TZID=Australia/Melbourne:20241215T170000
DTSTAMP:20260420T154308
CREATED:20241202T035006Z
LAST-MODIFIED:20241202T035006Z
UID:7700-1734249600-1734282000@hrvhero.com.au
SUMMARY:Upper Yarra ARC HRCAV ring
DESCRIPTION:
URL:https://hrvhero.com.au/event/upper-yarra-arc-hrcav-ring-2/
CATEGORIES:HRCAV Event
END:VEVENT
BEGIN:VEVENT
DTSTART;TZID=Australia/Melbourne:20250209T080000
DTEND;TZID=Australia/Melbourne:20250209T170000
DTSTAMP:20260420T154308
CREATED:20241202T035514Z
LAST-MODIFIED:20241202T035514Z
UID:7713-1739088000-1739120400@hrvhero.com.au
SUMMARY:Golden Spurs Dressage Series - Colac and Dist ARC
DESCRIPTION:
URL:https://hrvhero.com.au/event/golden-spurs-dressage-series-colac-and-dist-arc/
CATEGORIES:HRCAV Event
END:VEVENT
BEGIN:VEVENT
DTSTART;TZID=Australia/Melbourne:20250215T080000
DTEND;TZID=Australia/Melbourne:20250216T170000
DTSTAMP:20260420T154308
CREATED:20250217T030858Z
LAST-MODIFIED:20250217T030858Z
UID:7852-1739606400-1739725200@hrvhero.com.au
SUMMARY:Cashmore ARC Official Dressage Weekend
DESCRIPTION:
URL:https://hrvhero.com.au/event/cashmore-arc-official-dressage-weekend/
CATEGORIES:HRCAV Event,In conjunction with SPPHAV
END:VEVENT
BEGIN:VEVENT
DTSTART;TZID=Australia/Melbourne:20250221T080000
DTEND;TZID=Australia/Melbourne:20250221T170000
DTSTAMP:20260420T154308
CREATED:20250217T030917Z
LAST-MODIFIED:20250217T030917Z
UID:7854-1740124800-1740157200@hrvhero.com.au
SUMMARY:Trentham Adult Riding Club Not So Midweek Dressage R1
DESCRIPTION:
URL:https://hrvhero.com.au/event/trentham-adult-riding-club-not-so-midweek-dressage-r1/
CATEGORIES:HRCAV Event,In conjunction with SPPHAV
END:VEVENT
BEGIN:VEVENT
DTSTART;TZID=Australia/Melbourne:20250222T080000
DTEND;TZID=Australia/Melbourne:20250222T170000
DTSTAMP:20260420T154308
CREATED:20241202T035533Z
LAST-MODIFIED:20241202T035533Z
UID:7715-1740211200-1740243600@hrvhero.com.au
SUMMARY:Golden Spurs Dressage Series - Freshwater ARC
DESCRIPTION:
URL:https://hrvhero.com.au/event/golden-spurs-dressage-series-freshwater-arc/
CATEGORIES:HRCAV Event
END:VEVENT
BEGIN:VEVENT
DTSTART;TZID=Australia/Melbourne:20250223T080000
DTEND;TZID=Australia/Melbourne:20250223T170000
DTSTAMP:20260420T154308
CREATED:20241202T035619Z
LAST-MODIFIED:20241202T040027Z
UID:7719-1740297600-1740330000@hrvhero.com.au
SUMMARY:Golden Spurs Dressage Series - Westcoast ARC
DESCRIPTION:
URL:https://hrvhero.com.au/event/golden-spurs-dressage-series-westcoast-arc/
CATEGORIES:HRCAV Event,In conjunction with SPPHAV
END:VEVENT
BEGIN:VEVENT
DTSTART;TZID=Australia/Melbourne:20250223T080000
DTEND;TZID=Australia/Melbourne:20250223T170000
DTSTAMP:20260420T154308
CREATED:20250312T231155Z
LAST-MODIFIED:20250312T231155Z
UID:7977-1740297600-1740330000@hrvhero.com.au
SUMMARY:South West Working Equitation Dressage
DESCRIPTION:
URL:https://hrvhero.com.au/event/south-west-working-equitation-dressage/
CATEGORIES:HRCAV Event,In conjunction with SPPHAV
END:VEVENT
BEGIN:VEVENT
DTSTART;TZID=Australia/Melbourne:20250301T080000
DTEND;TZID=Australia/Melbourne:20250301T170000
DTSTAMP:20260420T154308
CREATED:20250217T030951Z
LAST-MODIFIED:20250217T030951Z
UID:7856-1740816000-1740848400@hrvhero.com.au
SUMMARY:Mount Cole Equestrian HRCAV Show Day 1
DESCRIPTION:
URL:https://hrvhero.com.au/event/mount-cole-equestrian-hrcav-show-day-1/
CATEGORIES:HRCAV Event,In conjunction with SPPHAV
END:VEVENT
BEGIN:VEVENT
DTSTART;TZID=Australia/Melbourne:20250302T000000
DTEND;TZID=Australia/Melbourne:20250302T000000
DTSTAMP:20260420T154308
CREATED:20250217T030825Z
LAST-MODIFIED:20250218T002530Z
UID:7850-1740873600-1740873600@hrvhero.com.au
SUMMARY:Upper Yarra ARC Dressage Day
DESCRIPTION:
URL:https://hrvhero.com.au/event/upper-yarra-arc-dressage-day-2/
CATEGORIES:HRCAV Event,In conjunction with SPPHAV,Walk/Trot Tests Available
END:VEVENT
BEGIN:VEVENT
DTSTART;TZID=Australia/Melbourne:20250302T080000
DTEND;TZID=Australia/Melbourne:20250302T170000
DTSTAMP:20260420T154308
CREATED:20250217T031009Z
LAST-MODIFIED:20250218T002708Z
UID:7858-1740902400-1740934800@hrvhero.com.au
SUMMARY:Mount Cole Equestrian HRCAV Dressage Day 2
DESCRIPTION:
URL:https://hrvhero.com.au/event/mount-cole-equestrian-hrcav-dressage-day-2/
CATEGORIES:HRCAV Event,In conjunction with SPPHAV,Walk/Trot Tests Available
END:VEVENT
BEGIN:VEVENT
DTSTART;TZID=Australia/Melbourne:20250305T080000
DTEND;TZID=Australia/Melbourne:20250305T170000
DTSTAMP:20260420T154308
CREATED:20250217T031033Z
LAST-MODIFIED:20250217T031033Z
UID:7860-1741161600-1741194000@hrvhero.com.au
SUMMARY:Yarrambat ARC Dressage Series R1
DESCRIPTION:
URL:https://hrvhero.com.au/event/yarrambat-arc-dressage-series-r1/
CATEGORIES:HRCAV Event,In conjunction with SPPHAV
END:VEVENT
BEGIN:VEVENT
DTSTART;TZID=Australia/Melbourne:20250315T080000
DTEND;TZID=Australia/Melbourne:20250315T170000
DTSTAMP:20260420T154308
CREATED:20250312T231326Z
LAST-MODIFIED:20250312T231326Z
UID:7979-1742025600-1742058000@hrvhero.com.au
SUMMARY:Hamilton ARC Dressage Jackpot - CCC Series R1
DESCRIPTION:
URL:https://hrvhero.com.au/event/hamilton-arc-dressage-jackpot-ccc-series-r1/
CATEGORIES:HRCAV Event,In conjunction with SPPHAV
END:VEVENT
BEGIN:VEVENT
DTSTART;TZID=Australia/Melbourne:20250316T080000
DTEND;TZID=Australia/Melbourne:20250316T170000
DTSTAMP:20260420T154308
CREATED:20250312T231353Z
LAST-MODIFIED:20250312T231353Z
UID:7981-1742112000-1742144400@hrvhero.com.au
SUMMARY:Warnambool ARC Dressage Jackpot - CCC Series R2
DESCRIPTION:
URL:https://hrvhero.com.au/event/warnambool-arc-dressage-jackpot-ccc-series-r2/
CATEGORIES:HRCAV Event,In conjunction with SPPHAV
END:VEVENT
BEGIN:VEVENT
DTSTART;TZID=Australia/Melbourne:20250321T080000
DTEND;TZID=Australia/Melbourne:20250321T170000
DTSTAMP:20260420T154308
CREATED:20250217T031324Z
LAST-MODIFIED:20250217T031324Z
UID:7866-1742544000-1742576400@hrvhero.com.au
SUMMARY:Trentham Adult Riding Club Not So Midweek Dressage R2
DESCRIPTION:
URL:https://hrvhero.com.au/event/trentham-adult-riding-club-not-so-midweek-dressage-r2/
CATEGORIES:HRCAV Event,In conjunction with SPPHAV
END:VEVENT
BEGIN:VEVENT
DTSTART;TZID=Australia/Melbourne:20250323T080000
DTEND;TZID=Australia/Melbourne:20250323T170000
DTSTAMP:20260420T154308
CREATED:20250217T031343Z
LAST-MODIFIED:20250217T031343Z
UID:7868-1742716800-1742749200@hrvhero.com.au
SUMMARY:Yarra Glen CT and Dressage
DESCRIPTION:
URL:https://hrvhero.com.au/event/yarra-glen-ct-and-dressage/
CATEGORIES:HRCAV Event,In conjunction with SPPHAV
END:VEVENT
BEGIN:VEVENT
DTSTART;TZID=Australia/Melbourne:20250329T080000
DTEND;TZID=Australia/Melbourne:20250329T170000
DTSTAMP:20260420T154308
CREATED:20241202T035713Z
LAST-MODIFIED:20241202T035713Z
UID:7721-1743235200-1743267600@hrvhero.com.au
SUMMARY:GGG Series - Terang Arc
DESCRIPTION:
URL:https://hrvhero.com.au/event/ggg-series-terang-arc/
CATEGORIES:HRCAV Event
END:VEVENT
BEGIN:VEVENT
DTSTART;TZID=Australia/Melbourne:20250330T080000
DTEND;TZID=Australia/Melbourne:20250330T170000
DTSTAMP:20260420T154308
CREATED:20250217T031408Z
LAST-MODIFIED:20250318T030818Z
UID:7870-1743321600-1743354000@hrvhero.com.au
SUMMARY:Western Port EA HRCAV TTT Combined Training
DESCRIPTION:
URL:https://hrvhero.com.au/event/ttt-combined-training/
CATEGORIES:HRCAV Event,In conjunction with SPPHAV
END:VEVENT
BEGIN:VEVENT
DTSTART;TZID=Australia/Melbourne:20250402T080000
DTEND;TZID=Australia/Melbourne:20250402T170000
DTSTAMP:20260420T154308
CREATED:20250217T031443Z
LAST-MODIFIED:20250217T031443Z
UID:7872-1743580800-1743613200@hrvhero.com.au
SUMMARY:Yarrambat ARC Dressage Series R2
DESCRIPTION:
URL:https://hrvhero.com.au/event/yarrambat-arc-dressage-series-r2/
CATEGORIES:HRCAV Event,In conjunction with SPPHAV
END:VEVENT
BEGIN:VEVENT
DTSTART;TZID=Australia/Melbourne:20250411T080000
DTEND;TZID=Australia/Melbourne:20250411T170000
DTSTAMP:20260420T154308
CREATED:20250217T031503Z
LAST-MODIFIED:20250217T031503Z
UID:7874-1744358400-1744390800@hrvhero.com.au
SUMMARY:Trentham Adult Riding Club Not So Midweek Dressage R3 and Final
DESCRIPTION:
URL:https://hrvhero.com.au/event/trentham-adult-riding-club-not-so-midweek-dressage-r3-and-final/
CATEGORIES:HRCAV Event,In conjunction with SPPHAV
END:VEVENT
BEGIN:VEVENT
DTSTART;TZID=Australia/Melbourne:20250412T080000
DTEND;TZID=Australia/Melbourne:20250412T170000
DTSTAMP:20260420T154308
CREATED:20241202T035816Z
LAST-MODIFIED:20241202T035816Z
UID:7723-1744444800-1744477200@hrvhero.com.au
SUMMARY:GGG Series - Midwest Arc
DESCRIPTION:
URL:https://hrvhero.com.au/event/ggg-series-midwest-arc/
CATEGORIES:HRCAV Event,In conjunction with SPPHAV
END:VEVENT
END:VCALENDAR